BEGIN:VCALENDAR
VERSION:2.0
PRODID:-// - ECPv6.15.11//NONSGML v1.0//EN
CALSCALE:GREGORIAN
METHOD:PUBLISH
X-ORIGINAL-URL:https://antartidamexico.org
X-WR-CALDESC:Eventos para 
REFRESH-INTERVAL;VALUE=DURATION:PT1H
X-Robots-Tag:noindex
X-PUBLISHED-TTL:PT1H
BEGIN:VTIMEZONE
TZID:UTC
BEGIN:STANDARD
TZOFFSETFROM:+0000
TZOFFSETTO:+0000
TZNAME:UTC
DTSTART:20190101T000000
END:STANDARD
END:VTIMEZONE
BEGIN:VEVENT
DTSTART;TZID=UTC:20250814T090000
DTEND;TZID=UTC:20250814T170000
DTSTAMP:20260422T115008
CREATED:20250904T013022Z
LAST-MODIFIED:20250907T151656Z
UID:10162-1755162000-1755190800@antartidamexico.org
SUMMARY:Fronteras Blancas
DESCRIPTION:México y Ucrania unidos en una misión por la ciencia y la Antártida \n\n\n\nEsta semana recibimos en México a la delegación del Centro Nacional de Ciencia Antártica de Ucrania (NASC) para el programa “Fronteras Blancas: Ciencia y Tecnología Antártica” (10–16 de agosto en CDMX y Ensenada).\n\n\n\nHabrá charlas abiertas en la UNAM y en CICESE\, además del Simposio Científico México–Ucrania (14 de agosto en Ensenada)\, donde científicos de ambos países compartirán conocimientos y proyectos para explorar y proteger la Antártida.
URL:https://antartidamexico.org/event/fronteras-blancas/
CATEGORIES:congreso
ATTACH;FMTTYPE=image/jpeg:https://antartidamexico.org/wp-content/uploads/2025/07/Propuesta-UCRANIA-MX-2.0-scaled.jpg
END:VEVENT
BEGIN:VEVENT
DTSTART;VALUE=DATE:20241027
DTEND;VALUE=DATE:20241028
DTSTAMP:20260422T115008
CREATED:20241001T191453Z
LAST-MODIFIED:20241001T191453Z
UID:8401-1729987200-1730073599@antartidamexico.org
SUMMARY:Ceremonia Inaugural OSC SCAR
DESCRIPTION:¡ No te pierdas la emoción de la ciencia antártica!  Si no pudiste acompañarnos en la inauguración de la Conferencia Abierta de Ciencia de la SCAR en Chile\, revive cada momento inspirador aquí -> https://www.youtube.com/watch?v=8h_Hpbt82D0\n\n\n\n¡La Antártida nos llama a todos!  No dejes pasar esta oportunidad de conectar con el futuro de la ciencia en el lugar más remoto del planeta.\n\n\n\n#AntartidaMexico #AMEA #Antartica #SCAR #Chile
URL:https://antartidamexico.org/event/ceremonia-inaugural-osc-scar/
CATEGORIES:congreso,cultural,ponencia
ATTACH;FMTTYPE=image/jpeg:https://antartidamexico.org/wp-content/uploads/2024/10/nodo-antartic.jpg
END:VEVENT
BEGIN:VEVENT
DTSTART;TZID=UTC:20221101T080000
DTEND;TZID=UTC:20221111T170000
DTSTAMP:20260422T115008
CREATED:20220825T133921Z
LAST-MODIFIED:20241001T185415Z
UID:6304-1667289600-1668186000@antartidamexico.org
SUMMARY:SEMANA NACIONAL DE CIENCIA ANTÁRTICA MEXICANA
DESCRIPTION:
URL:https://antartidamexico.org/event/semana-nacional-de-ciencia-y-cultura-polar-2022/
CATEGORIES:cultural
END:VEVENT
BEGIN:VEVENT
DTSTART;TZID=UTC:20211201T110000
DTEND;TZID=UTC:20211201T130000
DTSTAMP:20260422T115008
CREATED:20210517T005514Z
LAST-MODIFIED:20241001T185502Z
UID:6049-1638356400-1638363600@antartidamexico.org
SUMMARY:MEXANTARTICAS II - HISTORIAS DE VIDA
DESCRIPTION:
URL:https://antartidamexico.org/event/mexantarticas-ii-historias-de-vida/
LOCATION:https://fb.me/e/16IHjrSbc
CATEGORIES:ponencia
ATTACH;FMTTYPE=image/jpeg:https://antartidamexico.org/wp-content/uploads/2021/05/217435639_4391982264174732_4673527368161384133_n.jpg
ORGANIZER;CN="AMEA":MAILTO:antartidamexico@gmail.com
END:VEVENT
BEGIN:VEVENT
DTSTART;VALUE=DATE:20211201
DTEND;VALUE=DATE:20211202
DTSTAMP:20260422T115008
CREATED:20210517T005158Z
LAST-MODIFIED:20241001T185520Z
UID:6046-1638316800-1638403199@antartidamexico.org
SUMMARY:FESTIVAL DÍA LA ANTÁRTIDA MÉXICO – 2021
DESCRIPTION:
URL:https://antartidamexico.org/event/primer-aniversario-de-la-agencia-mexicana-de-estudios-antarticos-amea/
LOCATION:https://us02web.zoom.us/j/85220996463?pwd=d2tMTjVjdEFPdG9jamFCMnJaOFBpZz09 ID de reunión: 852 2099 6463 Código de acceso: FL1TAQ\, Mexico
CATEGORIES:cultural
ATTACH;FMTTYPE=image/jpeg:https://antartidamexico.org/wp-content/uploads/2021/05/AMEA.jpg
ORGANIZER;CN="AMEA":MAILTO:antartidamexico@gmail.com
END:VEVENT
BEGIN:VEVENT
DTSTART;VALUE=DATE:20211017
DTEND;VALUE=DATE:20211021
DTSTAMP:20260422T115008
CREATED:20210605T222200Z
LAST-MODIFIED:20241001T185547Z
UID:6065-1634428800-1634774399@antartidamexico.org
SUMMARY:3ra Reunión de la Red Mexicana de Extremófilos y Taller Internacional de Extremófilos y Ecosistemas Extremos
DESCRIPTION:[vc_row][vc_column][vc_column_text][/vc_column_text][/vc_column][/vc_row]
URL:https://antartidamexico.org/event/3ra-reunion-de-la-red-mexicana-de-extremofilos-y-taller-internacional-de-extremofilos-y-ecosistemas-extremos/
LOCATION:Hotel Marine Waterfront\, La Paz\, Baja California\, MX\, Km 2.5 Pichilingue Fracc\, Lomas de Palmira\,\, La Paz\, B.C.S.\, 23010
CATEGORIES:congreso,ponencia
ATTACH;FMTTYPE=image/jpeg:https://antartidamexico.org/wp-content/uploads/2021/06/logo-red-mex-extremfolios-scaled.jpg
ORGANIZER;CN="AMEA":MAILTO:antartidamexico@gmail.com
END:VEVENT
BEGIN:VEVENT
DTSTART;VALUE=DATE:20210712
DTEND;VALUE=DATE:20210713
DTSTAMP:20260422T115008
CREATED:20210716T163041Z
LAST-MODIFIED:20241001T185631Z
UID:6119-1626048000-1626134399@antartidamexico.org
SUMMARY:1ra Reunión de la Agencia Mexicana de Estudios Antarticos y la Red Mexicana de Extremófilos en el CIATEJ
DESCRIPTION:[vc_row][vc_column][vc_single_image image=”6120″ title=”Primera Reunión de la AMEA y la REDMEX en el CIATEJ”][/vc_column][/vc_row]
URL:https://antartidamexico.org/event/1ra-reunion-de-la-agencia-mexicana-de-estudios-antarticos-y-la-red-mexicana-de-extremofilos-en-el-ciatej/
LOCATION:CIATEJ\, ZAPOPAN\, Camino Arenero 1227\, El Bajío\, Zapopan\, Jal.\, Guadalajara\, Jalisco\, 45019\, Mexico
CATEGORIES:congreso
ATTACH;FMTTYPE=image/jpeg:https://antartidamexico.org/wp-content/uploads/2021/07/218035738_4392788174094141_4461743661609239873_n.jpg
ORGANIZER;CN="AMEA":MAILTO:antartidamexico@gmail.com
END:VEVENT
BEGIN:VEVENT
DTSTART;TZID=UTC:20201203T160000
DTEND;TZID=UTC:20201203T180000
DTSTAMP:20260422T115008
CREATED:20201006T161008Z
LAST-MODIFIED:20241001T185646Z
UID:5758-1607011200-1607018400@antartidamexico.org
SUMMARY:MEXANTARTICAS: HISTORIAS DE MEXICANAS EN LA ANTARTIDA
DESCRIPTION:JUEVES 03 DE DICIEMBRE 10:00 AM MEXICO \nCONOCE MAS DE LAS HISTORIAS DE VIDA DE NUESTRAS DE 3 CIENTIFICAS MEXICANAS Y DE SUS VIAJES AL MAGICO CONTINENTE DE LA ANTARTICA. \n\nDR. SANDRA GUZMAN\nMAESTRA XIMENA AGUILAR\nDR. PATRICIA VALDESPINO\n\nEvent link
URL:https://antartidamexico.org/event/dia-internacional-de-la-antartida/
LOCATION:ZOOM
CATEGORIES:congreso
ATTACH;FMTTYPE=image/jpeg:https://antartidamexico.org/wp-content/uploads/2020/11/127138415_193941255612806_9202542579702022650_o.jpg
ORGANIZER;CN="AMEA":MAILTO:antartidamexico@gmail.com
END:VEVENT
BEGIN:VEVENT
DTSTART;TZID=UTC:20201201T080000
DTEND;TZID=UTC:20201201T170000
DTSTAMP:20260422T115008
CREATED:20241001T061950Z
LAST-MODIFIED:20241001T185659Z
UID:5907-1606809600-1606842000@antartidamexico.org
SUMMARY:DIA INTERNACIONAL DE LA ANTÁRTIDA
DESCRIPTION:CELEBRANDO EL 61 ANIVERSARIO DE LA FIRMA DEL TRATADO DE LA ANTÁRTIDA \nEvento link facebook \n 
URL:https://antartidamexico.org/event/dia-internacional-de-la-antartida-2/
LOCATION:REUNIÓN GLOBAL VIRTUAL AMEA\, Mexico
CATEGORIES:cultural
ATTACH;FMTTYPE=image/jpeg:https://antartidamexico.org/wp-content/uploads/2020/10/DIA-INTERNACIONAL-DE-LA-ANTARTIDA.jpg
END:VEVENT
END:VCALENDAR